BEGIN:VCALENDAR
VERSION:2.0
PRODID:-//SingGoldies e.V. - ECPv6.15.20//NONSGML v1.0//EN
CALSCALE:GREGORIAN
METHOD:PUBLISH
X-WR-CALNAME:SingGoldies e.V.
X-ORIGINAL-URL:http://singgoldies-chor.de
X-WR-CALDESC:Veranstaltungen für SingGoldies e.V.
REFRESH-INTERVAL;VALUE=DURATION:PT1H
X-Robots-Tag:noindex
X-PUBLISHED-TTL:PT1H
BEGIN:VTIMEZONE
TZID:UTC
BEGIN:STANDARD
TZOFFSETFROM:+0000
TZOFFSETTO:+0000
TZNAME:UTC
DTSTART:20250101T000000
END:STANDARD
END:VTIMEZONE
BEGIN:VEVENT
DTSTART;TZID=UTC:20260510T190000
DTEND;TZID=UTC:20260510T200000
DTSTAMP:20260421T041549
CREATED:20251214T171629Z
LAST-MODIFIED:20251214T171629Z
UID:358-1778439600-1778443200@singgoldies-chor.de
SUMMARY:Musikalische Gestaltung des Abendgottesdienstes
DESCRIPTION:
URL:http://singgoldies-chor.de/event/musikalische-gestaltung-des-abendgottesdienstes/
LOCATION:Pfarrkirche Schwabmünchen
END:VEVENT
END:VCALENDAR