BEGIN:VCALENDAR
VERSION:2.0
PRODID:-//SingGoldies e.V. - ECPv6.15.20//NONSGML v1.0//EN
CALSCALE:GREGORIAN
METHOD:PUBLISH
X-WR-CALNAME:SingGoldies e.V.
X-ORIGINAL-URL:http://singgoldies-chor.de
X-WR-CALDESC:Veranstaltungen für SingGoldies e.V.
REFRESH-INTERVAL;VALUE=DURATION:PT1H
X-Robots-Tag:noindex
X-PUBLISHED-TTL:PT1H
BEGIN:VTIMEZONE
TZID:UTC
BEGIN:STANDARD
TZOFFSETFROM:+0000
TZOFFSETTO:+0000
TZNAME:UTC
DTSTART:20230101T000000
END:STANDARD
END:VTIMEZONE
BEGIN:VEVENT
DTSTART;TZID=UTC:20240505T190000
DTEND;TZID=UTC:20240505T200000
DTSTAMP:20260421T041041
CREATED:20240310T155804Z
LAST-MODIFIED:20240310T155804Z
UID:246-1714935600-1714939200@singgoldies-chor.de
SUMMARY:Gestaltung des Gottesdienstes
DESCRIPTION:Gestaltung des Gottesdienstes in der Pfarrkirche Schwabmünchen
URL:http://singgoldies-chor.de/event/gestaltung-des-gottesdienstes/
LOCATION:Pfarrkirche Schwabmünchen
END:VEVENT
END:VCALENDAR